BEGIN:VCALENDAR
VERSION:2.0
PRODID:-//Intand Corporation//Tandem//EN
METHOD:PUBLISH
BEGIN:VEVENT
DTSTAMP:20260422T173818Z
DTSTART:20260419T161500Z
DTEND:20260419T164500Z
TRANSP:TRANSPARENT
PRIORITY:0
SUMMARY:Garden Ministry Meeting
LOCATION:Trinity Lutheran Church > 203 Classroom
DESCRIPTION:Location:\nTrinity Lutheran Church > 203 Classroom\n\n
URL;VALUE=URI:https://trinitylutheranchurch.tandem.co/index.php?type=view&
 action=event&id=52053
CREATED:20260415T153917Z
LAST-MODIFIED:20260415T153917Z
UID:event-52053-trinitylutheranchurch@intand.com
END:VEVENT
END:VCALENDAR
